BEGIN:VCALENDAR
VERSION:2.0
PRODID:-//Acme Widgets\, Inc.//NONSGML ExportToCalendar//EN
CALSCALE:GREGORIAN
BEGIN:VEVENT
DTSTAMP:20260421T125631Z
UID:cac658f9-4849-481c-bebb-48bf85a70ab9
DTSTART:20260425T120000
DTEND:20260425T130000
DESCRIPTION:Inspection for 176 Ngatai Road\, OTUMOETAI BAY OF PLENTY 3110
LOCATION:176 Ngatai Road\, OTUMOETAI BAY OF PLENTY 3110
SUMMARY:176 Ngatai Road\, OTUMOETAI BAY OF PLENTY 3110
END:VEVENT
END:VCALENDAR
