BEGIN:VCALENDAR
VERSION:2.0
PRODID:-//Acme Widgets\, Inc.//NONSGML ExportToCalendar//EN
CALSCALE:GREGORIAN
BEGIN:VEVENT
DTSTAMP:20260423T144304Z
UID:c2565b1f-efe9-452d-9b3a-38fad80b9ab8
DTSTART:20260426T090000
DTEND:20260426T100000
DESCRIPTION:Inspection for 21B Seddon Street\, GLENHOLME BAY OF PLENTY 3010
LOCATION:21B Seddon Street\, GLENHOLME BAY OF PLENTY 3010
SUMMARY:21B Seddon Street\, GLENHOLME BAY OF PLENTY 3010
END:VEVENT
END:VCALENDAR
