BEGIN:VCALENDAR
VERSION:2.0
PRODID:-//Acme Widgets\, Inc.//NONSGML ExportToCalendar//EN
CALSCALE:GREGORIAN
BEGIN:VEVENT
DTSTAMP:20260423T144034Z
UID:6df024af-7d5d-41d8-a267-0802f7f3f011
DTSTART:20260426T113000
DTEND:20260426T120000
DESCRIPTION:Inspection for 50 Alison Street\, MANGAKAKAHI BAY OF PLENTY 301
 5
LOCATION:50 Alison Street\, MANGAKAKAHI BAY OF PLENTY 3015
SUMMARY:50 Alison Street\, MANGAKAKAHI BAY OF PLENTY 3015
END:VEVENT
END:VCALENDAR
